BEGIN:VCALENDAR
VERSION:2.0
PRODID:-//Duo Virtuoso - ECPv6.15.20//NONSGML v1.0//EN
CALSCALE:GREGORIAN
METHOD:PUBLISH
X-WR-CALNAME:Duo Virtuoso
X-ORIGINAL-URL:https://www.duovirtuoso.nl
X-WR-CALDESC:Evenementen voor Duo Virtuoso
REFRESH-INTERVAL;VALUE=DURATION:PT1H
X-Robots-Tag:noindex
X-PUBLISHED-TTL:PT1H
BEGIN:VTIMEZONE
TZID:Europe/Paris
BEGIN:DAYLIGHT
TZOFFSETFROM:+0100
TZOFFSETTO:+0200
TZNAME:CEST
DTSTART:20180325T010000
END:DAYLIGHT
BEGIN:STANDARD
TZOFFSETFROM:+0200
TZOFFSETTO:+0100
TZNAME:CET
DTSTART:20181028T010000
END:STANDARD
BEGIN:DAYLIGHT
TZOFFSETFROM:+0100
TZOFFSETTO:+0200
TZNAME:CEST
DTSTART:20190331T010000
END:DAYLIGHT
BEGIN:STANDARD
TZOFFSETFROM:+0200
TZOFFSETTO:+0100
TZNAME:CET
DTSTART:20191027T010000
END:STANDARD
BEGIN:DAYLIGHT
TZOFFSETFROM:+0100
TZOFFSETTO:+0200
TZNAME:CEST
DTSTART:20200329T010000
END:DAYLIGHT
BEGIN:STANDARD
TZOFFSETFROM:+0200
TZOFFSETTO:+0100
TZNAME:CET
DTSTART:20201025T010000
END:STANDARD
END:VTIMEZONE
BEGIN:VEVENT
DTSTART;TZID=Europe/Paris:20191224T193000
DTEND;TZID=Europe/Paris:20191224T210000
DTSTAMP:20260422T152710
CREATED:20191213T101902Z
LAST-MODIFIED:20191213T101902Z
UID:694-1577215800-1577221200@www.duovirtuoso.nl
SUMMARY:Kerstconcert t.b.v. Open Doors
DESCRIPTION:Vorig jaar was het een gezegende avond met een prachtige opbrengst\, de kerst koor- en samenzangavond in Boven-Hardinxveld ten bate van Open Doors. Dit jaar organiseert Duo Virtuoso het concert opnieuw\, met medewerkenden: \n– Arjan Versluis\, organist SING-IN (vanaf 19.15 uur)– Christelijk Gemengd Koor Con Amore o.l.v. Reinier Korver\n– Christelijk Jongerenkoor Glory o.l.v. Mark Brandwijk\n– Alisa van Dijk\, viool\n– Reinier Korver\, Mark Brandwijk\, koorbegeleiding\n– Joost van Barneveld\, organist samenzang \nToegang GRATIS\, collecte voor Open Doors-project Hope for the Middle East. \nKerk open vanaf 18.45. Wees op tijd\, vol is vol! Wil je vast een gereserveerde plek? Stuur dan een mailtje naar duovirtuoso@gmail.com.\nHet programma is uiterlijk 21.00 uur afgelopen. \n  \nOpen Doors \nWereldwijd worden meer dan 245 miljoen christenen gediscrimineerd\, mishandeld of zelfs gedood om hun geloof. \nEen Bijbel in de kast hebben staan\, openlijk over je geloof kunnen praten: het lijken heel vanzelfsprekende dingen. Maar in Noord-Korea kan alleen het bezit van een Bijbel er al toe leiden dat je met je hele gezin in een strafkamp wordt opgesloten. In Iran en andere moslimlanden kunnen christenen vaak alleen maar in het geheim in kleine groepen samenkomen. \nEen spreker van Open Doors vertelt tijdens de themabijeenkomst over christenvervolging\, onder meer aan de hand van eigen ontmoetingen met vervolgde christenen. Waar worden christenen vervolgd en waarom? De verhalen uit de vervolgde kerk zijn vaak schrijnend\, maar bevatten ook een inspirerende boodschap. Over standvastig blijven in geloof\, moed om trouw te blijven en vijanden lief te hebben en de kracht van gebed.
URL:https://www.duovirtuoso.nl/concert/kerstconcert-t-b-v-open-doors/
LOCATION:Hervormde Kerk Boven Hardinxveld\, Kerkplein 1\, Boven-Hardinxveld\, Zuid-Holland\, Nederland
CATEGORIES:Geestelijke concerten
ATTACH;FMTTYPE=image/jpeg:https://www.duovirtuoso.nl/wp-content/uploads/2019/12/Koor1s.jpg
END:VEVENT
END:VCALENDAR